BEGIN:VCALENDAR
VERSION:2.0
PRODID:-//wp-events-plugin.com//7.1.2//EN
BEGIN:VEVENT
UID:226@kati1988.de
DTSTART;VALUE=DATE:20230101
DTEND;VALUE=DATE:20240101
DTSTAMP:20230220T095211Z
URL:https://kati1988.de/events/2023-hider/
SUMMARY:2023 Hider
DESCRIPTION:Du erhältst das Souvenir\, wenn du im Jahr 2023 einen Cache od
 er ein Event veröffentlichst.
END:VEVENT
END:VCALENDAR