BEGIN:VCALENDAR
VERSION:2.0
PRODID:-//wp-events-plugin.com//7.1.2//EN
BEGIN:VEVENT
UID:229@kati1988.de
DTSTART;VALUE=DATE:20230501
DTEND;VALUE=DATE:20230504
DTSTAMP:20230426T080229Z
URL:https://kati1988.de/events/blue-switch-day-2023/
SUMMARY:Blue Switch Day 2023
DESCRIPTION:Finde einen Cache oder nimm an einem Event teil\, um ein Souven
 ir zu erhalten.
END:VEVENT
END:VCALENDAR