BEGIN:VCALENDAR
VERSION:2.0
PRODID:-//wp-events-plugin.com//7.1.2//EN
BEGIN:VEVENT
UID:222@kati1988.de
DTSTART;VALUE=DATE:20220901
DTEND;VALUE=DATE:20221201
DTSTAMP:20220314T172156Z
URL:https://kati1988.de/events/cito-2022-season-2/
SUMMARY:CITO 2022 Season 2
DESCRIPTION:Nimm an einem CITO-Event teil\, um das Souvenir zu erhalten.
END:VEVENT
END:VCALENDAR