BEGIN:VCALENDAR
VERSION:2.0
PRODID:-//wp-events-plugin.com//7.1.2//EN
BEGIN:VEVENT
UID:231@kati1988.de
DTSTART;VALUE=DATE:20230901
DTEND;VALUE=DATE:20231201
DTSTAMP:20230426T080643Z
URL:https://kati1988.de/events/cito-2023-season-2/
SUMMARY:CITO 2023 Season 2
DESCRIPTION:Veranstalte oder nimm an einem CITO teil\, um ein Souvenir zu e
 rhalten.
END:VEVENT
END:VCALENDAR