BEGIN:VCALENDAR
VERSION:2.0
PRODID:-//wp-events-plugin.com//7.1.2//EN
BEGIN:VEVENT
UID:239@kati1988.de
DTSTART:20240229T230000Z
DTEND:20240530T230000Z
DTSTAMP:20240318T093327Z
URL:https://kati1988.de/events/cito-season-1/
SUMMARY:CITO Season 1
DESCRIPTION:Nimm an einem CITO-Event teil\, um das Souvenir zu erhalten.
END:VEVENT
END:VCALENDAR