BEGIN:VCALENDAR
VERSION:2.0
PRODID:-//wp-events-plugin.com//7.1.2//EN
BEGIN:VEVENT
UID:224@kati1988.de
DTSTART;VALUE=DATE:20221225
DTEND;VALUE=DATE:20230101
DTSTAMP:20220314T172301Z
URL:https://kati1988.de/events/goodbye-2022/
SUMMARY:Goodbye 2022
DESCRIPTION:Finde einen Cache oder nimm an einem Event teil\, um das Souven
 ir zu erhalten.
END:VEVENT
END:VCALENDAR