BEGIN:VCALENDAR
VERSION:2.0
PRODID:-//wp-events-plugin.com//7.1.2//EN
BEGIN:VEVENT
UID:223@kati1988.de
DTSTART;VALUE=DATE:20221008
DTEND;VALUE=DATE:20221010
DTSTAMP:20220314T172229Z
URL:https://kati1988.de/events/international-earthcache-day-2022/
SUMMARY:International Earthcache Day 2022
DESCRIPTION:Finde eine Earthcache\, um ein Souvenir zu erhalten.
END:VEVENT
END:VCALENDAR