BEGIN:VCALENDAR
VERSION:2.0
PRODID:-//wp-events-plugin.com//7.1.2//EN
BEGIN:VEVENT
UID:230@kati1988.de
DTSTART;VALUE=DATE:20230819
DTEND;VALUE=DATE:20230820
DTSTAMP:20230426T080555Z
URL:https://kati1988.de/events/international-geocaching-day-2023/
SUMMARY:International Geocaching Day 2023
DESCRIPTION:Finde einen Cache oder nimm an einem Event teil\, um das Souven
 ir zu erhalten.
END:VEVENT
END:VCALENDAR