BEGIN:VCALENDAR
VERSION:2.0
PRODID:-//wp-events-plugin.com//7.1.2//EN
BEGIN:VEVENT
UID:240@kati1988.de
DTSTART;VALUE=DATE:20240317
DTEND;VALUE=DATE:20240324
DTSTAMP:20240323T150936Z
URL:https://kati1988.de/events/march-equinox/
SUMMARY:March Equinox
DESCRIPTION:Um das Souvenir zu erhalten\, musst du an den entsprechenden Ta
 gen drei Caches gefunden oder Events besucht haben.
END:VEVENT
END:VCALENDAR