BEGIN:VCALENDAR
VERSION:2.0
PRODID:-//wp-events-plugin.com//7.1.2//EN
BEGIN:VEVENT
UID:225@kati1988.de
DTSTART;VALUE=DATE:20220404
DTEND;VALUE=DATE:20230404
DTSTAMP:20220629T084020Z
URL:https://kati1988.de/events/signals-labyrinth/
SUMMARY:Signal's Labyrinth
DESCRIPTION:Verdiene im Zeitraum genug Punkte\, um Souvenirs zu erhalten. N
 äheres dazu erfährst du hier.
END:VEVENT
END:VCALENDAR